data_05mbh1006
 
_audit_creation_method            SHELXL-97
_chemical_name_systematic
;
 ?
;
_chemical_name_common             ?
_chemical_melting_point           ?
_chemical_formula_moiety          ?
_chemical_formula_sum
 'C8 H6 O4'
_chemical_formula_weight          166.13
 
loop_
 _atom_type_symbol
 _atom_type_description
 _atom_type_scat_dispersion_real
 _atom_type_scat_dispersion_imag
 _atom_type_scat_source
 'C'  'C'   0.0033   0.0016
 'International Tables Vol C Tables 4.2.6.8 and 6.1.1.4'
 'H'  'H'   0.0000   0.0000
 'International Tables Vol C Tables 4.2.6.8 and 6.1.1.4'
 'O'  'O'   0.0106   0.0060
 'International Tables Vol C Tables 4.2.6.8 and 6.1.1.4'
 
_symmetry_cell_setting            monoclinic
_symmetry_space_group_name_H-M    C2/c
 
loop_
 _symmetry_equiv_pos_as_xyz
 'x, y, z'
 '-x, y, -z+1/2'
 'x+1/2, y+1/2, z'
 '-x+1/2, y+1/2, -z+1/2'
 '-x, -y, -z'
 'x, -y, z-1/2'
 '-x+1/2, -y+1/2, -z'
 'x+1/2, -y+1/2, z-1/2'
 
_cell_length_a                    5.0016(10)
_cell_length_b                    14.214(3)
_cell_length_c                    9.5196(19)
_cell_angle_alpha                 90.00
_cell_angle_beta                  94.33(3)
_cell_angle_gamma                 90.00
_cell_volume                      674.8(2)
_cell_formula_units_Z             4
_cell_measurement_temperature     120(2)
_cell_measurement_reflns_used     724
_cell_measurement_theta_min       2.910
_cell_measurement_theta_max       27.485
 
_exptl_crystal_description        Prism
_exptl_crystal_colour             Colourless
_exptl_crystal_size_max           0.20
_exptl_crystal_size_mid           0.10
_exptl_crystal_size_min           0.07
_exptl_crystal_density_meas       ?
_exptl_crystal_density_diffrn     1.635
_exptl_crystal_density_method     'not measured'
_exptl_crystal_F_000              344
_exptl_absorpt_coefficient_mu     0.134
_exptl_absorpt_correction_type    multi-scan
_exptl_absorpt_correction_T_min   0.9737
_exptl_absorpt_correction_T_max   0.9907
_exptl_absorpt_process_details    ?
 
_exptl_special_details
;
 ?
;
 
_diffrn_ambient_temperature       120(2)
_diffrn_radiation_wavelength      0.71073
_diffrn_radiation_type            MoK\a
_diffrn_radiation_source          'fine-focus sealed tube'
_diffrn_radiation_monochromator   graphite
_diffrn_measurement_device_type   KappaCCD
_diffrn_measurement_method        CCD
_diffrn_detector_area_resol_mean  9
_diffrn_standards_number          ?
_diffrn_standards_interval_count  ?
_diffrn_standards_interval_time   ?
_diffrn_standards_decay_%         ?
_diffrn_reflns_number             3224
_diffrn_reflns_av_R_equivalents   0.0337
_diffrn_reflns_av_sigmaI/netI     0.0331
_diffrn_reflns_limit_h_min        -6
_diffrn_reflns_limit_h_max        6
_diffrn_reflns_limit_k_min        -18
_diffrn_reflns_limit_k_max        18
_diffrn_reflns_limit_l_min        -11
_diffrn_reflns_limit_l_max        12
_diffrn_reflns_theta_min          4.29
_diffrn_reflns_theta_max          27.46
_reflns_number_total              774
_reflns_number_gt                 643
_reflns_threshold_expression      >2sigma(I)
 
_computing_data_collection        'Collect (Bruker AXS BV, 1997-2004)'
_computing_cell_refinement        'HKL Scalepack (Otwinowski & Minor 1997)'
_computing_data_reduction         'HKL Denzo and Scalepack (Otwinowski & M'
_computing_structure_solution     ?
_computing_structure_refinement   'SHELXL-97 (Sheldrick, 1997)'
_computing_molecular_graphics     ?
_computing_publication_material   ?
 
_refine_special_details
;
 Refinement of F² against ALL reflections.  The weighted R-factor wR and
 goodness of fit S are based on F², conventional R-factors R are based
 on F, with F set to zero for negative F². The threshold expression of
 F² > 2sigma(F²) is used only for calculating R-factors(gt) etc. and is
 not relevant to the choice of reflections for refinement.  R-factors based
 on F² are statistically about twice as large as those based on F, and R-
 factors based on ALL data will be even larger.
;
 
_refine_ls_structure_factor_coef  Fsqd
_refine_ls_matrix_type            full
_refine_ls_weighting_scheme       calc
_refine_ls_weighting_details
 'calc w=1/[σ²(Fo²)+(0.0747P)²+0.3698P] where P=(Fo²+2Fc²)/3'
_atom_sites_solution_primary      direct
_atom_sites_solution_secondary    difmap
_atom_sites_solution_hydrogens    geom
_refine_ls_hydrogen_treatment     mixed
_refine_ls_extinction_method      none
_refine_ls_extinction_coef        ?
_refine_ls_number_reflns          774
_refine_ls_number_parameters      67
_refine_ls_number_restraints      0
_refine_ls_R_factor_all           0.0534
_refine_ls_R_factor_gt            0.0423
_refine_ls_wR_factor_ref          0.1197
_refine_ls_wR_factor_gt           0.1116
_refine_ls_goodness_of_fit_ref    1.053
_refine_ls_restrained_S_all       1.053
_refine_ls_shift/su_max           0.000
_refine_ls_shift/su_mean          0.000
 
loop_
 _atom_site_label
 _atom_site_type_symbol
 _atom_site_fract_x
 _atom_site_fract_y
 _atom_site_fract_z
 _atom_site_U_iso_or_equiv
 _atom_site_adp_type
 _atom_site_occupancy
 _atom_site_symmetry_multiplicity
 _atom_site_calc_flag
 _atom_site_refinement_flags
 _atom_site_disorder_assembly
 _atom_site_disorder_group
O1 O 0.0874(2) 0.14519(8) 0.92137(12) 0.0221(3) Uani 1 1 d . . .
O2 O 0.4848(2) 0.21393(7) 0.89970(11) 0.0192(3) Uani 1 1 d . . .
C2 C 0.4047(3) 0.06121(10) 0.80053(15) 0.0156(4) Uani 1 1 d . . .
C4 C 0.3997(3) -0.10931(11) 0.79618(16) 0.0196(4) Uani 1 1 d . . .
C1 C 0.3297(3) 0.14849(10) 0.87528(15) 0.0162(4) Uani 1 1 d . . .
C3 C 0.3054(3) -0.02410(10) 0.84612(16) 0.0180(4) Uani 1 1 d . . .
H3 H 0.177(4) -0.0240(13) 0.916(2) 0.023(5) Uiso 1 1 d . . .
H4 H 0.330(4) -0.1675(14) 0.830(2) 0.026(5) Uiso 1 1 d . . .
H1 H 0.068(5) 0.1973(19) 0.979(3) 0.064(8) Uiso 1 1 d . . .
 
loop_
 _atom_site_aniso_label
 _atom_site_aniso_U_11
 _atom_site_aniso_U_22
 _atom_site_aniso_U_33
 _atom_site_aniso_U_23
 _atom_site_aniso_U_13
 _atom_site_aniso_U_12
O1 0.0194(6) 0.0227(6) 0.0256(6) -0.0062(5) 0.0099(5) -0.0018(4)
O2 0.0220(6) 0.0186(6) 0.0181(6) -0.0020(4) 0.0079(4) -0.0023(4)
C2 0.0159(7) 0.0175(8) 0.0135(7) -0.0006(5) 0.0014(5) 0.0004(5)
C4 0.0231(8) 0.0176(8) 0.0180(8) 0.0022(5) 0.0012(6) -0.0028(5)
C1 0.0179(8) 0.0188(7) 0.0123(7) 0.0011(5) 0.0034(5) 0.0014(5)
C3 0.0176(7) 0.0221(8) 0.0146(7) 0.0007(6) 0.0038(6) -0.0009(5)
 
_geom_special_details
;
 All esds (except the esd in the dihedral angle between two l.s. planes)
 are estimated using the full covariance matrix.  The cell esds are taken
 into account individually in the estimation of esds in distances, angles
 and torsion angles; correlations between esds in cell parameters are only
 used when they are defined by crystal symmetry.  An approximate (isotropic)
 treatment of cell esds is used for estimating esds involving l.s. planes.
;
 
loop_
 _geom_bond_atom_site_label_1
 _geom_bond_atom_site_label_2
 _geom_bond_distance
 _geom_bond_site_symmetry_2
 _geom_bond_publ_flag
O1 C1 1.3202(18) . ?
O1 H1 0.93(3) . ?
O2 C1 1.2221(18) . ?
C2 C3 1.392(2) . ?
C2 C2 1.404(3) 2_656 ?
C2 C1 1.492(2) . ?
C4 C4 1.383(3) 2_656 ?
C4 C3 1.396(2) . ?
C4 H4 0.96(2) . ?
C3 H3 0.96(2) . ?
 
loop_
 _geom_angle_atom_site_label_1
 _geom_angle_atom_site_label_2
 _geom_angle_atom_site_label_3
 _geom_angle
 _geom_angle_site_symmetry_1
 _geom_angle_site_symmetry_3
 _geom_angle_publ_flag
C1 O1 H1 108.0(17) . . ?
C3 C2 C2 119.35(9) . 2_656 ?
C3 C2 C1 117.83(13) . . ?
C2 C2 C1 122.34(8) 2_656 . ?
C4 C4 C3 119.76(9) 2_656 . ?
C4 C4 H4 120.7(12) 2_656 . ?
C3 C4 H4 119.5(12) . . ?
O2 C1 O1 123.30(13) . . ?
O2 C1 C2 122.99(13) . . ?
O1 C1 C2 113.53(12) . . ?
C2 C3 C4 120.78(14) . . ?
C2 C3 H3 119.3(11) . . ?
C4 C3 H3 119.9(11) . . ?
 
loop_
 _geom_hbond_atom_site_label_D
 _geom_hbond_atom_site_label_H
 _geom_hbond_atom_site_label_A
 _geom_hbond_distance_DH
 _geom_hbond_distance_HA
 _geom_hbond_distance_DA
 _geom_hbond_angle_DHA
 _geom_hbond_site_symmetry_A
O1 H1 O2  0.93(3) 1.74(3) 2.6710(15) 174(3) 7_557
 
_diffrn_measured_fraction_theta_max    0.986
_diffrn_reflns_theta_full              27.46
_diffrn_measured_fraction_theta_full   0.986
_refine_diff_density_max    0.215
_refine_diff_density_min   -0.257
_refine_diff_density_rms    0.066
