data_04src0951_295
 
_audit_creation_method            SHELXL-97
_chemical_name_systematic
;
 ?
;
_chemical_name_common             ?
_chemical_melting_point           ?
_chemical_formula_moiety          'Fe3 H6 O14 S2, 12(K0.08)'
_chemical_formula_sum
 'Fe3 H6 K O14 S2'
_chemical_formula_weight          500.82
 
loop_
 _atom_type_symbol
 _atom_type_description
 _atom_type_scat_dispersion_real
 _atom_type_scat_dispersion_imag
 _atom_type_scat_source
 'H'  'H'   0.0000   0.0000
 'International Tables Vol C Tables 4.2.6.8 and 6.1.1.4'
 'Fe'  'Fe'   0.3463   0.8444
 'International Tables Vol C Tables 4.2.6.8 and 6.1.1.4'
 'K'  'K'   0.2009   0.2494
 'International Tables Vol C Tables 4.2.6.8 and 6.1.1.4'
 'O'  'O'   0.0106   0.0060
 'International Tables Vol C Tables 4.2.6.8 and 6.1.1.4'
 'S'  'S'   0.1246   0.1234
 'International Tables Vol C Tables 4.2.6.8 and 6.1.1.4'
 
_symmetry_cell_setting            Trigonal
_symmetry_space_group_name_H-M    R-3m
_symmetry_space_group_name_hall   '-R 3 2"'
 
loop_
 _symmetry_equiv_pos_as_xyz
 'x, y, z'
 '-y, x-y, z'
 '-x+y, -x, z'
 'y, x, -z'
 '-x, -x+y, -z'
 'x-y, -y, -z'
 'x+2/3, y+1/3, z+1/3'
 '-y+2/3, x-y+1/3, z+1/3'
 '-x+y+2/3, -x+1/3, z+1/3'
 'y+2/3, x+1/3, -z+1/3'
 '-x+2/3, -x+y+1/3, -z+1/3'
 'x-y+2/3, -y+1/3, -z+1/3'
 'x+1/3, y+2/3, z+2/3'
 '-y+1/3, x-y+2/3, z+2/3'
 '-x+y+1/3, -x+2/3, z+2/3'
 'y+1/3, x+2/3, -z+2/3'
 '-x+1/3, -x+y+2/3, -z+2/3'
 'x-y+1/3, -y+2/3, -z+2/3'
 '-x, -y, -z'
 'y, -x+y, -z'
 'x-y, x, -z'
 '-y, -x, z'
 'x, x-y, z'
 '-x+y, y, z'
 '-x+2/3, -y+1/3, -z+1/3'
 'y+2/3, -x+y+1/3, -z+1/3'
 'x-y+2/3, x+1/3, -z+1/3'
 '-y+2/3, -x+1/3, z+1/3'
 'x+2/3, x-y+1/3, z+1/3'
 '-x+y+2/3, y+1/3, z+1/3'
 '-x+1/3, -y+2/3, -z+2/3'
 'y+1/3, -x+y+2/3, -z+2/3'
 'x-y+1/3, x+2/3, -z+2/3'
 '-y+1/3, -x+2/3, z+2/3'
 'x+1/3, x-y+2/3, z+2/3'
 '-x+y+1/3, y+2/3, z+2/3'
 
_cell_length_a                    7.3003(10)
_cell_length_b                    7.3003(10)
_cell_length_c                    17.216(3)
_cell_angle_alpha                 90.00
_cell_angle_beta                  90.00
_cell_angle_gamma                 120.00
_cell_volume                      794.6(2)
_cell_formula_units_Z             3
_cell_measurement_temperature     295(2)
_cell_measurement_reflns_used     2351
_cell_measurement_theta_min       2.91
_cell_measurement_theta_max       27.48
 
_exptl_crystal_description        cube
_exptl_crystal_colour             orange
_exptl_crystal_size_max           0.05
_exptl_crystal_size_mid           0.05
_exptl_crystal_size_min           0.05
_exptl_crystal_density_meas       ?
_exptl_crystal_density_diffrn     3.140
_exptl_crystal_density_method     'not measured'
_exptl_crystal_F_000              741
_exptl_absorpt_coefficient_mu     4.924
_exptl_absorpt_correction_type    multi-scan
_exptl_absorpt_correction_T_min   0.7908
_exptl_absorpt_correction_T_max   0.7908
_exptl_absorpt_process_details    'SADABS V2.10 (Sheldrick, G.M., 2003)'
 
_exptl_special_details
;
 ?
;
 
_diffrn_ambient_temperature       295(2)
_diffrn_radiation_wavelength      0.71073
_diffrn_radiation_type            MoK\a
_diffrn_radiation_source         'Bruker-Nonius FR591 rotating anode'
_diffrn_radiation_monochromator   graphite
_diffrn_measurement_device_type   'Bruker-Nonius KappaCCD Area Detector'
_diffrn_measurement_method        'φ and ω scans'
_diffrn_detector_area_resol_mean  9.091
_diffrn_standards_number          none
_diffrn_standards_interval_count  ?
_diffrn_standards_interval_time   ?
_diffrn_standards_decay_%         negligible
_diffrn_reflns_number             2190
_diffrn_reflns_av_R_equivalents   0.0320
_diffrn_reflns_av_sigmaI/netI     0.0327
_diffrn_reflns_limit_h_min        -9
_diffrn_reflns_limit_h_max        9
_diffrn_reflns_limit_k_min        -9
_diffrn_reflns_limit_k_max        8
_diffrn_reflns_limit_l_min        -22
_diffrn_reflns_limit_l_max        19
_diffrn_reflns_theta_min          4.00
_diffrn_reflns_theta_max          27.49
_reflns_number_total              252
_reflns_number_gt                 237
_reflns_threshold_expression      >2sigma(I)
 
_computing_data_collection        ?
_computing_cell_refinement        'DENZO, COLLECT'
_computing_data_reduction         'DENZO, COLLECT'
_computing_structure_solution     'SHELXS-97 (Sheldrick, 1997)'
_computing_structure_refinement   'SHELXL-97 (Sheldrick, 1997)'
_computing_molecular_graphics     'PLATON (Spek, 1990)'
_computing_publication_material   ?
 
_refine_special_details
;
 Refinement of F² against ALL reflections.  The weighted R-factor wR and
 goodness of fit S are based on F², conventional R-factors R are based
 on F, with F set to zero for negative F². The threshold expression of
 F² > 2sigma(F²) is used only for calculating R-factors(gt) etc. and is
 not relevant to the choice of reflections for refinement.  R-factors based
 on F² are statistically about twice as large as those based on F, and R-
 factors based on ALL data will be even larger.
;
 
_refine_ls_structure_factor_coef  Fsqd
_refine_ls_matrix_type            full
_refine_ls_weighting_scheme       calc
_refine_ls_weighting_details
 'calc w=1/[σ²(Fo²)+(0.0245P)²+3.9969P] where P=(Fo²+2Fc²)/3'
_atom_sites_solution_primary      direct
_atom_sites_solution_secondary    difmap
_atom_sites_solution_hydrogens    geom
_refine_ls_hydrogen_treatment     riding
_refine_ls_extinction_method      SHELXL
_refine_ls_extinction_coef        0.0021(6)
_refine_ls_extinction_expression
 'Fc^*^=kFc[1+0.001xFc²λ³/sin(2θ)]^-1/4^'
_refine_ls_number_reflns          252
_refine_ls_number_parameters      27
_refine_ls_number_restraints      0
_refine_ls_R_factor_all           0.0241
_refine_ls_R_factor_gt            0.0230
_refine_ls_wR_factor_ref          0.0609
_refine_ls_wR_factor_gt           0.0603
_refine_ls_goodness_of_fit_ref    1.090
_refine_ls_restrained_S_all       1.090
_refine_ls_shift/su_max           0.000
_refine_ls_shift/su_mean          0.000
 
loop_
 _atom_site_label
 _atom_site_type_symbol
 _atom_site_fract_x
 _atom_site_fract_y
 _atom_site_fract_z
 _atom_site_U_iso_or_equiv
 _atom_site_adp_type
 _atom_site_occupancy
 _atom_site_symmetry_multiplicity
 _atom_site_calc_flag
 _atom_site_refinement_flags
 _atom_site_disorder_assembly
 _atom_site_disorder_group
Fe1 Fe 0.3333 0.1667 0.1667 0.0076(3) Uani 1 4 d S . .
S1 S 0.6667 0.3333 0.02515(7) 0.0066(4) Uani 1 6 d S . .
O1 O 0.12695(19) -0.12695(19) 0.13560(13) 0.0100(5) Uani 1 2 d S . .
H1 H 0.1735 -0.1738 0.1204 0.006(11) Uiso 1 2 d SR . .
O2 O 0.4464(3) 0.22320(17) 0.05429(12) 0.0112(5) Uani 1 2 d S . .
O3 O 0.6667 0.3333 -0.0595(2) 0.0118(8) Uani 1 6 d S . .
K1 K 0.0000 0.0000 0.0000 0.0178(5) Uani 1 12 d S . .
 
loop_
 _atom_site_aniso_label
 _atom_site_aniso_U_11
 _atom_site_aniso_U_22
 _atom_site_aniso_U_33
 _atom_site_aniso_U_23
 _atom_site_aniso_U_13
 _atom_site_aniso_U_12
Fe1 0.0053(4) 0.0070(4) 0.0097(5) 0.00000(11) 0.0000(2) 0.0027(2)
S1 0.0070(5) 0.0070(5) 0.0059(7) 0.000 0.000 0.0035(2)
O1 0.0081(8) 0.0081(8) 0.0143(12) -0.0021(5) 0.0021(5) 0.0044(9)
O2 0.0066(11) 0.0141(9) 0.0105(11) 0.0011(4) 0.0022(8) 0.0033(6)
O3 0.0156(12) 0.0156(12) 0.0042(18) 0.000 0.000 0.0078(6)
K1 0.0216(6) 0.0216(6) 0.0102(8) 0.000 0.000 0.0108(3)
 
_geom_special_details
;
 All esds (except the esd in the dihedral angle between two l.s. planes)
 are estimated using the full covariance matrix.  The cell esds are taken
 into account individually in the estimation of esds in distances, angles
 and torsion angles; correlations between esds in cell parameters are only
 used when they are defined by crystal symmetry.  An approximate (isotropic)
 treatment of cell esds is used for estimating esds involving l.s. planes.
;
 
loop_
 _geom_bond_atom_site_label_1
 _geom_bond_atom_site_label_2
 _geom_bond_distance
 _geom_bond_site_symmetry_2
 _geom_bond_publ_flag
Fe1 O1 1.9802(9) 26 ?
Fe1 O1 1.9802(9) 2 ?
Fe1 O1 1.9802(9) . ?
Fe1 O1 1.9802(9) 25 ?
Fe1 O2 2.063(2) . ?
Fe1 O2 2.063(2) 25 ?
S1 O3 1.457(4) . ?
S1 O2 1.480(2) 2_655 ?
S1 O2 1.480(2) 3_665 ?
S1 O2 1.480(2) . ?
O1 Fe1 1.9802(9) 3 ?
O1 K1 2.833(2) . ?
O2 K1 2.973(2) . ?
K1 O1 2.833(2) 2 ?
K1 O1 2.833(2) 20 ?
K1 O1 2.833(2) 3 ?
K1 O1 2.833(2) 19 ?
K1 O1 2.833(2) 21 ?
K1 O2 2.973(2) 19 ?
K1 O2 2.973(2) 21 ?
K1 O2 2.973(2) 2 ?
K1 O2 2.973(2) 3 ?
K1 O2 2.973(2) 20 ?
 
loop_
 _geom_angle_atom_site_label_1
 _geom_angle_atom_site_label_2
 _geom_angle_atom_site_label_3
 _geom_angle
 _geom_angle_site_symmetry_1
 _geom_angle_site_symmetry_3
 _geom_angle_publ_flag
O1 Fe1 O1 180.0 26 2 ?
O1 Fe1 O1 90.82(14) 26 . ?
O1 Fe1 O1 89.18(14) 2 . ?
O1 Fe1 O1 89.18(14) 26 25 ?
O1 Fe1 O1 90.82(14) 2 25 ?
O1 Fe1 O1 180.0 . 25 ?
O1 Fe1 O2 91.43(7) 26 . ?
O1 Fe1 O2 88.57(7) 2 . ?
O1 Fe1 O2 88.57(7) . . ?
O1 Fe1 O2 91.43(7) 25 . ?
O1 Fe1 O2 88.57(7) 26 25 ?
O1 Fe1 O2 91.43(7) 2 25 ?
O1 Fe1 O2 91.43(7) . 25 ?
O1 Fe1 O2 88.57(7) 25 25 ?
O2 Fe1 O2 180.0 . 25 ?
O1 Fe1 K1 127.43(7) 26 . ?
O1 Fe1 K1 52.57(7) 2 . ?
O1 Fe1 K1 52.57(7) . . ?
O1 Fe1 K1 127.43(7) 25 . ?
O2 Fe1 K1 56.57(6) . . ?
O2 Fe1 K1 123.43(6) 25 . ?
O1 Fe1 K1 52.57(7) 26 7 ?
O1 Fe1 K1 127.43(7) 2 7 ?
O1 Fe1 K1 127.43(7) . 7 ?
O1 Fe1 K1 52.57(7) 25 7 ?
O2 Fe1 K1 123.43(6) . 7 ?
O2 Fe1 K1 56.57(6) 25 7 ?
K1 Fe1 K1 180.0 . 7 ?
O3 S1 O2 109.81(9) . 2_655 ?
O3 S1 O2 109.81(9) . 3_665 ?
O2 S1 O2 109.13(9) 2_655 3_665 ?
O3 S1 O2 109.81(9) . . ?
O2 S1 O2 109.13(9) 2_655 . ?
O2 S1 O2 109.13(9) 3_665 . ?
Fe1 O1 Fe1 134.34(12) 3 . ?
Fe1 O1 K1 93.71(7) 3 . ?
Fe1 O1 K1 93.71(7) . . ?
S1 O2 Fe1 130.09(13) . . ?
S1 O2 K1 141.86(12) . . ?
Fe1 O2 K1 88.05(7) . . ?
O1 K1 O1 180.00(11) 2 20 ?
O1 K1 O1 58.77(8) 2 3 ?
O1 K1 O1 121.23(8) 20 3 ?
O1 K1 O1 58.77(8) 2 . ?
O1 K1 O1 121.23(8) 20 . ?
O1 K1 O1 58.77(8) 3 . ?
O1 K1 O1 121.23(8) 2 19 ?
O1 K1 O1 58.77(8) 20 19 ?
O1 K1 O1 121.23(8) 3 19 ?
O1 K1 O1 180.00(7) . 19 ?
O1 K1 O1 121.23(8) 2 21 ?
O1 K1 O1 58.77(8) 20 21 ?
O1 K1 O1 180.00(17) 3 21 ?
O1 K1 O1 121.23(8) . 21 ?
O1 K1 O1 58.77(8) 19 21 ?
O1 K1 O2 58.13(3) 2 . ?
O1 K1 O2 121.87(3) 20 . ?
O1 K1 O2 106.19(6) 3 . ?
O1 K1 O2 58.13(3) . . ?
O1 K1 O2 121.87(3) 19 . ?
O1 K1 O2 73.81(6) 21 . ?
O1 K1 O2 121.87(3) 2 19 ?
O1 K1 O2 58.13(3) 20 19 ?
O1 K1 O2 73.81(6) 3 19 ?
O1 K1 O2 121.87(3) . 19 ?
O1 K1 O2 58.13(3) 19 19 ?
O1 K1 O2 106.19(6) 21 19 ?
O2 K1 O2 180.00(9) . 19 ?
O1 K1 O2 73.81(6) 2 21 ?
O1 K1 O2 106.19(6) 20 21 ?
O1 K1 O2 121.87(3) 3 21 ?
O1 K1 O2 121.87(3) . 21 ?
O1 K1 O2 58.13(3) 19 21 ?
O1 K1 O2 58.13(3) 21 21 ?
O2 K1 O2 69.41(4) . 21 ?
O2 K1 O2 110.59(4) 19 21 ?
O1 K1 O2 58.13(3) 2 2 ?
O1 K1 O2 121.87(3) 20 2 ?
O1 K1 O2 58.13(3) 3 2 ?
O1 K1 O2 106.19(6) . 2 ?
O1 K1 O2 73.81(6) 19 2 ?
O1 K1 O2 121.87(3) 21 2 ?
O2 K1 O2 110.59(4) . 2 ?
O2 K1 O2 69.41(4) 19 2 ?
O2 K1 O2 69.41(4) 21 2 ?
O1 K1 O2 106.19(6) 2 3 ?
O1 K1 O2 73.81(6) 20 3 ?
O1 K1 O2 58.13(3) 3 3 ?
O1 K1 O2 58.13(3) . 3 ?
O1 K1 O2 121.87(3) 19 3 ?
O1 K1 O2 121.87(3) 21 3 ?
O2 K1 O2 110.59(4) . 3 ?
O2 K1 O2 69.41(4) 19 3 ?
O2 K1 O2 180.0 21 3 ?
O2 K1 O2 110.59(4) 2 3 ?
O1 K1 O2 121.87(3) 2 20 ?
O1 K1 O2 58.13(3) 20 20 ?
O1 K1 O2 121.87(3) 3 20 ?
O1 K1 O2 73.81(6) . 20 ?
O1 K1 O2 106.19(6) 19 20 ?
O1 K1 O2 58.13(3) 21 20 ?
O2 K1 O2 69.41(4) . 20 ?
O2 K1 O2 110.59(4) 19 20 ?
O2 K1 O2 110.59(4) 21 20 ?
O2 K1 O2 180.00(8) 2 20 ?
O2 K1 O2 69.41(4) 3 20 ?
 
_diffrn_measured_fraction_theta_max    0.988
_diffrn_reflns_theta_full              27.49
_diffrn_measured_fraction_theta_full   0.988
_refine_diff_density_max    0.499
_refine_diff_density_min   -0.521
_refine_diff_density_rms    0.119
