data_2005src1160
 
_audit_creation_method            SHELXL-97
_chemical_name_systematic
;
 ?
;
_chemical_name_common             ?
_chemical_melting_point           ?
_chemical_formula_moiety          'C26 H32 F2 Se2'
_chemical_formula_sum
 'C26 H32 F2 Se2'
_chemical_formula_weight          540.44
 
loop_
 _atom_type_symbol
 _atom_type_description
 _atom_type_scat_dispersion_real
 _atom_type_scat_dispersion_imag
 _atom_type_scat_source
 'C'  'C'   0.0033   0.0016
 'International Tables Vol C Tables 4.2.6.8 and 6.1.1.4'
 'H'  'H'   0.0000   0.0000
 'International Tables Vol C Tables 4.2.6.8 and 6.1.1.4'
 'F'  'F'   0.0171   0.0103
 'International Tables Vol C Tables 4.2.6.8 and 6.1.1.4'
 'Se'  'Se'  -0.0929   2.2259
 'International Tables Vol C Tables 4.2.6.8 and 6.1.1.4'
 
_symmetry_cell_setting            Monoclinic
_symmetry_space_group_name_H-M    P2(1)/n
_symmetry_space_group_name_hall   '-P 2yn'
 
loop_
 _symmetry_equiv_pos_as_xyz
 'x, y, z'
 '-x+1/2, y+1/2, -z+1/2'
 '-x, -y, -z'
 'x-1/2, -y-1/2, z-1/2'
 
_cell_length_a                    11.3155(4)
_cell_length_b                    5.41330(10)
_cell_length_c                    19.0117(7)
_cell_angle_alpha                 90.00
_cell_angle_beta                  91.099(2)
_cell_angle_gamma                 90.00
_cell_volume                      1164.33(6)
_cell_formula_units_Z             2
_cell_measurement_temperature     121(2)
_cell_measurement_reflns_used     2801
_cell_measurement_theta_min       2.91
_cell_measurement_theta_max       27.48
 
_exptl_crystal_description        blade
_exptl_crystal_colour             'pale yellow'
_exptl_crystal_size_max           0.38
_exptl_crystal_size_mid           0.08
_exptl_crystal_size_min           0.02
_exptl_crystal_density_meas       ?
_exptl_crystal_density_diffrn     1.542
_exptl_crystal_density_method     'not measured'
_exptl_crystal_F_000              548
_exptl_absorpt_coefficient_mu     3.202
_exptl_absorpt_correction_type    multi-scan
_exptl_absorpt_correction_T_min   0.3758
_exptl_absorpt_correction_T_max   0.9387
_exptl_absorpt_process_details    'SADABS V2.10 (Sheldrick, G.M., 2003)'
 
_exptl_special_details
;
 ?
;
 
_diffrn_ambient_temperature       121(2)
_diffrn_radiation_wavelength      0.71073
_diffrn_radiation_type            MoK\a
_diffrn_radiation_source          'Bruker-Nonius FR591 rotating anode'
_diffrn_radiation_monochromator   '10cm confocal mirrors'
_diffrn_measurement_device_type   'Bruker-Nonius KappaCCD Area Detector'
_diffrn_measurement_method        'φ and ω scans'
_diffrn_detector_area_resol_mean  9.091
_diffrn_standards_number          none
_diffrn_standards_interval_count  ?
_diffrn_standards_interval_time   ?
_diffrn_standards_decay_%         negligible
_diffrn_reflns_number             14057
_diffrn_reflns_av_R_equivalents   0.0517
_diffrn_reflns_av_sigmaI/netI     0.0398
_diffrn_reflns_limit_h_min        -14
_diffrn_reflns_limit_h_max        14
_diffrn_reflns_limit_k_min        -7
_diffrn_reflns_limit_k_max        6
_diffrn_reflns_limit_l_min        -24
_diffrn_reflns_limit_l_max        24
_diffrn_reflns_theta_min          3.60
_diffrn_reflns_theta_max          27.49
_reflns_number_total              2665
_reflns_number_gt                 2277
_reflns_threshold_expression      >2sigma(I)
 
_computing_data_collection        ?
_computing_cell_refinement        'DENZO, COLLECT'
_computing_data_reduction         'DENZO, COLLECT'
_computing_structure_solution     'SHELXS-97 (Sheldrick, 1997)'
_computing_structure_refinement   'SHELXL-97 (Sheldrick, 1997)'
_computing_molecular_graphics     'PLATON (Spek, 1990)'
_computing_publication_material   ?
 
_refine_special_details
;
 Refinement of F² against ALL reflections.  The weighted R-factor wR and
 goodness of fit S are based on F², conventional R-factors R are based
 on F, with F set to zero for negative F². The threshold expression of
 F² > 2sigma(F²) is used only for calculating R-factors(gt) etc. and is
 not relevant to the choice of reflections for refinement.  R-factors based
 on F² are statistically about twice as large as those based on F, and R-
 factors based on ALL data will be even larger.
;
 
_refine_ls_structure_factor_coef  Fsqd
_refine_ls_matrix_type            full
_refine_ls_weighting_scheme       calc
_refine_ls_weighting_details
 'calc w=1/[σ²(Fo²)+(0.0317P)²+0.8387P] where P=(Fo²+2Fc²)/3'
_atom_sites_solution_primary      direct
_atom_sites_solution_secondary    difmap
_atom_sites_solution_hydrogens    geom
_refine_ls_hydrogen_treatment     constr
_refine_ls_extinction_method      none
_refine_ls_extinction_coef        ?
_refine_ls_number_reflns          2665
_refine_ls_number_parameters      137
_refine_ls_number_restraints      0
_refine_ls_R_factor_all           0.0403
_refine_ls_R_factor_gt            0.0307
_refine_ls_wR_factor_ref          0.0760
_refine_ls_wR_factor_gt           0.0717
_refine_ls_goodness_of_fit_ref    1.042
_refine_ls_restrained_S_all       1.042
_refine_ls_shift/su_max           0.001
_refine_ls_shift/su_mean          0.000
 
loop_
 _atom_site_label
 _atom_site_type_symbol
 _atom_site_fract_x
 _atom_site_fract_y
 _atom_site_fract_z
 _atom_site_U_iso_or_equiv
 _atom_site_adp_type
 _atom_site_occupancy
 _atom_site_symmetry_multiplicity
 _atom_site_calc_flag
 _atom_site_refinement_flags
 _atom_site_disorder_assembly
 _atom_site_disorder_group
C1 C 0.41322(19) 0.6416(4) 0.46787(11) 0.0211(5) Uani 1 1 d . . .
H1 H 0.3540 0.7363 0.4443 0.025 Uiso 1 1 calc R . .
C2 C 0.4672(2) 0.4521(4) 0.43320(11) 0.0208(5) Uani 1 1 d . . .
C3 C 0.55552(18) 0.3026(4) 0.46215(11) 0.0187(4) Uani 1 1 d . . .
C4 C 0.61328(19) 0.1008(4) 0.42416(11) 0.0186(4) Uani 1 1 d . . .
C5 C 0.70040(19) -0.0511(4) 0.44939(11) 0.0188(4) Uani 1 1 d . . .
H5 H 0.7305 -0.0363 0.4962 0.023 Uiso 1 1 calc R . .
C6 C 0.74443(19) -0.2335(4) 0.40225(11) 0.0189(4) Uani 1 1 d . . .
C7 C 0.6911(2) -0.2255(4) 0.33729(12) 0.0239(5) Uani 1 1 d . . .
H7 H 0.7107 -0.3330 0.2998 0.029 Uiso 1 1 calc R . .
C8 C 0.8415(2) -0.4087(4) 0.42466(11) 0.0204(5) Uani 1 1 d . . .
H8A H 0.8132 -0.5088 0.4645 0.024 Uiso 1 1 calc R . .
H8B H 0.9098 -0.3103 0.4421 0.024 Uiso 1 1 calc R . .
C9 C 0.8843(2) -0.5835(4) 0.36770(11) 0.0201(5) Uani 1 1 d . . .
H9A H 0.9081 -0.4856 0.3263 0.024 Uiso 1 1 calc R . .
H9B H 0.8183 -0.6928 0.3527 0.024 Uiso 1 1 calc R . .
C10 C 0.98855(19) -0.7419(4) 0.39274(11) 0.0208(5) Uani 1 1 d . . .
H10A H 1.0544 -0.6320 0.4075 0.025 Uiso 1 1 calc R . .
H10B H 0.9647 -0.8381 0.4344 0.025 Uiso 1 1 calc R . .
C11 C 1.0324(2) -0.9195(4) 0.33678(12) 0.0214(5) Uani 1 1 d . . .
H11A H 0.9688 -1.0391 0.3250 0.026 Uiso 1 1 calc R . .
H11B H 1.0497 -0.8251 0.2936 0.026 Uiso 1 1 calc R . .
C12 C 1.1429(2) -1.0609(4) 0.36003(12) 0.0235(5) Uani 1 1 d . . .
H12A H 1.1267 -1.1484 0.4045 0.028 Uiso 1 1 calc R . .
H12B H 1.2076 -0.9416 0.3695 0.028 Uiso 1 1 calc R . .
C13 C 1.1836(2) -1.2484(4) 0.30555(12) 0.0260(5) Uani 1 1 d . . .
H13A H 1.1221 -1.3737 0.2982 0.039 Uiso 1 1 calc R . .
H13B H 1.2566 -1.3281 0.3224 0.039 Uiso 1 1 calc R . .
H13C H 1.1983 -1.1637 0.2610 0.039 Uiso 1 1 calc R . .
F1 F 0.43009(13) 0.4084(3) 0.36582(7) 0.0320(3) Uani 1 1 d . . .
Se1 Se 0.57614(2) 0.01841(4) 0.330242(11) 0.02306(10) Uani 1 1 d . . .
 
loop_
 _atom_site_aniso_label
 _atom_site_aniso_U_11
 _atom_site_aniso_U_22
 _atom_site_aniso_U_33
 _atom_site_aniso_U_23
 _atom_site_aniso_U_13
 _atom_site_aniso_U_12
C1 0.0214(11) 0.0251(12) 0.0168(11) 0.0002(9) -0.0013(9) 0.0060(9)
C2 0.0224(11) 0.0278(12) 0.0120(10) -0.0026(8) -0.0015(8) 0.0037(9)
C3 0.0177(10) 0.0230(12) 0.0154(10) -0.0005(8) 0.0014(8) 0.0007(8)
C4 0.0200(11) 0.0219(12) 0.0140(10) 0.0000(8) 0.0016(8) 0.0012(8)
C5 0.0193(11) 0.0237(11) 0.0135(10) -0.0012(8) -0.0005(8) 0.0019(9)
C6 0.0208(11) 0.0183(11) 0.0175(11) -0.0014(8) 0.0030(8) 0.0006(8)
C7 0.0292(12) 0.0242(12) 0.0182(11) -0.0032(9) 0.0009(9) 0.0064(9)
C8 0.0240(11) 0.0216(12) 0.0156(10) -0.0005(8) 0.0018(9) 0.0039(9)
C9 0.0234(11) 0.0212(11) 0.0157(11) -0.0008(8) 0.0011(9) 0.0033(9)
C10 0.0241(11) 0.0214(12) 0.0170(11) -0.0006(8) 0.0007(9) 0.0050(9)
C11 0.0231(11) 0.0205(12) 0.0206(11) -0.0013(9) 0.0004(9) 0.0034(9)
C12 0.0239(12) 0.0256(12) 0.0209(12) -0.0024(9) -0.0015(9) 0.0060(9)
C13 0.0250(12) 0.0269(13) 0.0262(13) -0.0010(9) 0.0002(10) 0.0069(9)
F1 0.0365(8) 0.0413(9) 0.0179(7) -0.0084(6) -0.0078(6) 0.0160(7)
Se1 0.02689(15) 0.02843(16) 0.01372(14) -0.00351(8) -0.00349(9) 0.00928(9)
 
_geom_special_details
;
 All esds (except the esd in the dihedral angle between two l.s. planes)
 are estimated using the full covariance matrix.  The cell esds are taken
 into account individually in the estimation of esds in distances, angles
 and torsion angles; correlations between esds in cell parameters are only
 used when they are defined by crystal symmetry.  An approximate (isotropic)
 treatment of cell esds is used for estimating esds involving l.s. planes.
;
 
loop_
 _geom_bond_atom_site_label_1
 _geom_bond_atom_site_label_2
 _geom_bond_distance
 _geom_bond_site_symmetry_2
 _geom_bond_publ_flag
C1 C2 1.369(3) . ?
C1 C3 1.403(3) 3_666 ?
C2 F1 1.361(2) . ?
C2 C3 1.392(3) . ?
C3 C1 1.403(3) 3_666 ?
C3 C4 1.470(3) . ?
C4 C5 1.363(3) . ?
C4 Se1 1.880(2) . ?
C5 C6 1.430(3) . ?
C6 C7 1.364(3) . ?
C6 C8 1.507(3) . ?
C7 Se1 1.857(2) . ?
C8 C9 1.524(3) . ?
C9 C10 1.527(3) . ?
C10 C11 1.524(3) . ?
C11 C12 1.524(3) . ?
C12 C13 1.528(3) . ?
 
loop_
 _geom_angle_atom_site_label_1
 _geom_angle_atom_site_label_2
 _geom_angle_atom_site_label_3
 _geom_angle
 _geom_angle_site_symmetry_1
 _geom_angle_site_symmetry_3
 _geom_angle_publ_flag
C2 C1 C3 120.8(2) . 3_666 ?
F1 C2 C1 116.82(19) . . ?
F1 C2 C3 118.5(2) . . ?
C1 C2 C3 124.7(2) . . ?
C2 C3 C1 114.6(2) . 3_666 ?
C2 C3 C4 124.12(19) . . ?
C1 C3 C4 121.30(19) 3_666 . ?
C5 C4 C3 126.91(19) . . ?
C5 C4 Se1 109.76(16) . . ?
C3 C4 Se1 123.33(15) . . ?
C4 C5 C6 117.0(2) . . ?
C7 C6 C5 113.10(19) . . ?
C7 C6 C8 125.66(19) . . ?
C5 C6 C8 121.23(19) . . ?
C6 C7 Se1 112.62(16) . . ?
C6 C8 C9 115.44(18) . . ?
C8 C9 C10 112.39(18) . . ?
C11 C10 C9 113.36(18) . . ?
C12 C11 C10 112.99(18) . . ?
C11 C12 C13 113.17(18) . . ?
C7 Se1 C4 87.50(9) . . ?
 
_diffrn_measured_fraction_theta_max    0.997
_diffrn_reflns_theta_full              27.49
_diffrn_measured_fraction_theta_full   0.997
_refine_diff_density_max    0.519
_refine_diff_density_min   -0.577
_refine_diff_density_rms    0.084
