data_2005src1009
 
_audit_creation_method            SHELXL-97
_chemical_name_systematic
;
 ?
;
_chemical_name_common             ?
_chemical_melting_point           ?
_chemical_formula_moiety          'C14 H9 Br N O2 S'
_chemical_formula_sum
 'C14 H9 Br N O2 S'
_chemical_formula_weight          335.19
 
loop_
 _atom_type_symbol
 _atom_type_description
 _atom_type_scat_dispersion_real
 _atom_type_scat_dispersion_imag
 _atom_type_scat_source
 'C'  'C'   0.0033   0.0016
 'International Tables Vol C Tables 4.2.6.8 and 6.1.1.4'
 'H'  'H'   0.0000   0.0000
 'International Tables Vol C Tables 4.2.6.8 and 6.1.1.4'
 'N'  'N'   0.0061   0.0033
 'International Tables Vol C Tables 4.2.6.8 and 6.1.1.4'
 'O'  'O'   0.0106   0.0060
 'International Tables Vol C Tables 4.2.6.8 and 6.1.1.4'
 'S'  'S'   0.1246   0.1234
 'International Tables Vol C Tables 4.2.6.8 and 6.1.1.4'
 'Br'  'Br'  -0.2901   2.4595
 'International Tables Vol C Tables 4.2.6.8 and 6.1.1.4'
 
_symmetry_cell_setting            Triclinic
_symmetry_space_group_name_H-M    P-1
_symmetry_space_group_name_hall   '-P 1'
 
loop_
 _symmetry_equiv_pos_as_xyz
 'x, y, z'
 '-x, -y, -z'
 
_cell_length_a                    5.9961(2)
_cell_length_b                    10.4374(5)
_cell_length_c                    11.9315(6)
_cell_angle_alpha                 109.210(2)
_cell_angle_beta                  91.493(3)
_cell_angle_gamma                 106.256(2)
_cell_volume                      671.17(5)
_cell_formula_units_Z             2
_cell_measurement_temperature     120(2)
_cell_measurement_reflns_used     2845
_cell_measurement_theta_min       2.91
_cell_measurement_theta_max       27.48
 
_exptl_crystal_description        rod
_exptl_crystal_colour             orange
_exptl_crystal_size_max           0.28
_exptl_crystal_size_mid           0.10
_exptl_crystal_size_min           0.07
_exptl_crystal_density_meas       ?
_exptl_crystal_density_diffrn     1.659
_exptl_crystal_density_method     'not measured'
_exptl_crystal_F_000              334
_exptl_absorpt_coefficient_mu     3.213
_exptl_absorpt_correction_type    multi-scan
_exptl_absorpt_correction_T_min   0.4665
_exptl_absorpt_correction_T_max   0.8063
_exptl_absorpt_process_details    'SADABS V2.10 (Sheldrick, G.M., 2003)'
 
_exptl_special_details
;
 ?
;
 
_diffrn_ambient_temperature       120(2)
_diffrn_radiation_wavelength      0.71073
_diffrn_radiation_type            MoK\a
_diffrn_radiation_source          'Bruker-Nonius FR591 rotating anode'
_diffrn_radiation_monochromator   graphite
_diffrn_measurement_device_type   'Bruker-Nonius KappaCCD Area Detector'
_diffrn_measurement_method        'φ and ω scans'
_diffrn_detector_area_resol_mean  9.091
_diffrn_standards_number          none
_diffrn_standards_interval_count  ?
_diffrn_standards_interval_time   ?
_diffrn_standards_decay_%         negligible
_diffrn_reflns_number             11124
_diffrn_reflns_av_R_equivalents   0.0363
_diffrn_reflns_av_sigmaI/netI     0.0402
_diffrn_reflns_limit_h_min        -7
_diffrn_reflns_limit_h_max        7
_diffrn_reflns_limit_k_min        -13
_diffrn_reflns_limit_k_max        13
_diffrn_reflns_limit_l_min        -15
_diffrn_reflns_limit_l_max        15
_diffrn_reflns_theta_min          3.29
_diffrn_reflns_theta_max          27.48
_reflns_number_total              3063
_reflns_number_gt                 2066
_reflns_threshold_expression      >2sigma(I)
 
_computing_data_collection        ?
_computing_cell_refinement        'DENZO, COLLECT'
_computing_data_reduction         'DENZO, COLLECT'
_computing_structure_solution     'SHELXS-97 (Sheldrick, 1997)'
_computing_structure_refinement   'SHELXL-97 (Sheldrick, 1997)'
_computing_molecular_graphics     'PLATON (Spek, 1990)'
_computing_publication_material   ?
 
_refine_special_details
;
 Refinement of F² against ALL reflections.  The weighted R-factor wR and
 goodness of fit S are based on F², conventional R-factors R are based
 on F, with F set to zero for negative F². The threshold expression of
 F² > 2sigma(F²) is used only for calculating R-factors(gt) etc. and is
 not relevant to the choice of reflections for refinement.  R-factors based
 on F² are statistically about twice as large as those based on F, and R-
 factors based on ALL data will be even larger.
;
 
_refine_ls_structure_factor_coef  Fsqd
_refine_ls_matrix_type            full
_refine_ls_weighting_scheme       calc
_refine_ls_weighting_details
 'calc w=1/[σ²(Fo²)+(0.0469P)²+0.2434P] where P=(Fo²+2Fc²)/3'
_atom_sites_solution_primary      direct
_atom_sites_solution_secondary    difmap
_atom_sites_solution_hydrogens    geom
_refine_ls_hydrogen_treatment     constr
_refine_ls_extinction_method      none
_refine_ls_extinction_coef        ?
_refine_ls_number_reflns          3063
_refine_ls_number_parameters      172
_refine_ls_number_restraints      0
_refine_ls_R_factor_all           0.0747
_refine_ls_R_factor_gt            0.0395
_refine_ls_wR_factor_ref          0.1021
_refine_ls_wR_factor_gt           0.0866
_refine_ls_goodness_of_fit_ref    1.020
_refine_ls_restrained_S_all       1.020
_refine_ls_shift/su_max           0.001
_refine_ls_shift/su_mean          0.000
 
loop_
 _atom_site_label
 _atom_site_type_symbol
 _atom_site_fract_x
 _atom_site_fract_y
 _atom_site_fract_z
 _atom_site_U_iso_or_equiv
 _atom_site_adp_type
 _atom_site_occupancy
 _atom_site_symmetry_multiplicity
 _atom_site_calc_flag
 _atom_site_refinement_flags
 _atom_site_disorder_assembly
 _atom_site_disorder_group
C1 C 0.4080(5) 0.2336(3) 0.3362(3) 0.0554(7) Uani 1 1 d . . .
C2 C 0.4020(6) 0.1329(3) 0.2302(3) 0.0667(9) Uani 1 1 d . . .
H2 H 0.3098 0.1184 0.1586 0.080 Uiso 1 1 calc R . .
C3 C 0.5499(6) 0.0511(3) 0.2386(3) 0.0653(9) Uani 1 1 d . . .
H3 H 0.5673 -0.0245 0.1720 0.078 Uiso 1 1 calc R . .
C4 C 0.6661(5) 0.0902(3) 0.3507(3) 0.0505(7) Uani 1 1 d . . .
C5 C 0.8210(5) 0.0203(3) 0.3828(3) 0.0509(7) Uani 1 1 d . . .
H5 H 0.8547 -0.0509 0.3181 0.061 Uiso 1 1 calc R . .
C6 C 0.9243(5) 0.0422(3) 0.4919(3) 0.0475(7) Uani 1 1 d . . .
C7 C 0.8877(5) 0.1522(3) 0.5992(3) 0.0504(7) Uani 1 1 d . . .
H7 H 0.7461 0.1281 0.6323 0.060 Uiso 1 1 calc R . .
C8 C 1.0342(5) 0.2792(3) 0.6518(3) 0.0491(7) Uani 1 1 d . . .
H8 H 1.1819 0.2983 0.6232 0.059 Uiso 1 1 calc R . .
C9 C 0.9960(5) 0.3962(3) 0.7504(2) 0.0433(6) Uani 1 1 d . . .
C10 C 1.1693(5) 0.5276(3) 0.7934(3) 0.0549(7) Uani 1 1 d . . .
H10 H 1.3135 0.5388 0.7608 0.066 Uiso 1 1 calc R . .
C11 C 1.1357(5) 0.6420(3) 0.8824(3) 0.0578(8) Uani 1 1 d . . .
H11 H 1.2549 0.7314 0.9114 0.069 Uiso 1 1 calc R . .
C12 C 0.9257(5) 0.6235(3) 0.9280(2) 0.0497(7) Uani 1 1 d . . .
C13 C 0.7515(5) 0.4956(3) 0.8892(3) 0.0527(7) Uani 1 1 d . . .
H13 H 0.6085 0.4854 0.9229 0.063 Uiso 1 1 calc R . .
C14 C 0.7869(5) 0.3823(3) 0.8009(3) 0.0506(7) Uani 1 1 d . . .
H14 H 0.6673 0.2930 0.7737 0.061 Uiso 1 1 calc R . .
N1 N 0.8834(6) 0.7453(3) 1.0199(3) 0.0676(8) Uani 1 1 d . . .
O1 O 1.0390(6) 0.8570(3) 1.0548(4) 0.1358(15) Uani 1 1 d . . .
O2 O 0.6976(5) 0.7302(3) 1.0580(3) 0.0995(10) Uani 1 1 d . . .
S1 S 0.59231(13) 0.23279(8) 0.44825(7) 0.0541(2) Uani 1 1 d . . .
Br1 Br 0.24401(6) 0.36719(4) 0.36964(3) 0.07308(17) Uani 1 1 d . . .
 
loop_
 _atom_site_aniso_label
 _atom_site_aniso_U_11
 _atom_site_aniso_U_22
 _atom_site_aniso_U_33
 _atom_site_aniso_U_23
 _atom_site_aniso_U_13
 _atom_site_aniso_U_12
C1 0.0503(16) 0.0517(17) 0.063(2) 0.0236(16) 0.0024(14) 0.0093(13)
C2 0.082(2) 0.0525(19) 0.057(2) 0.0182(17) -0.0100(17) 0.0101(16)
C3 0.091(2) 0.0472(18) 0.052(2) 0.0126(15) 0.0030(17) 0.0181(16)
C4 0.0574(17) 0.0427(16) 0.0491(18) 0.0141(13) 0.0108(14) 0.0137(13)
C5 0.0649(18) 0.0392(15) 0.0481(18) 0.0109(13) 0.0168(14) 0.0196(13)
C6 0.0550(16) 0.0408(15) 0.0459(17) 0.0114(13) 0.0162(13) 0.0173(12)
C7 0.0581(16) 0.0476(17) 0.0487(17) 0.0144(14) 0.0206(14) 0.0229(14)
C8 0.0482(15) 0.0454(17) 0.0515(17) 0.0111(14) 0.0144(13) 0.0172(13)
C9 0.0483(14) 0.0425(15) 0.0393(15) 0.0119(12) 0.0070(12) 0.0167(12)
C10 0.0449(15) 0.0542(18) 0.061(2) 0.0141(15) 0.0097(14) 0.0152(13)
C11 0.0557(17) 0.0460(17) 0.059(2) 0.0074(15) -0.0028(15) 0.0102(13)
C12 0.0588(17) 0.0452(16) 0.0399(16) 0.0049(13) 0.0007(13) 0.0205(14)
C13 0.0554(16) 0.0500(17) 0.0471(17) 0.0087(14) 0.0151(13) 0.0167(14)
C14 0.0536(16) 0.0418(15) 0.0478(17) 0.0064(13) 0.0120(13) 0.0122(12)
N1 0.0787(19) 0.0501(17) 0.0600(18) -0.0012(14) 0.0025(15) 0.0234(15)
O1 0.112(2) 0.0646(19) 0.157(3) -0.038(2) 0.027(2) 0.0057(18)
O2 0.098(2) 0.0752(18) 0.103(2) -0.0064(15) 0.0389(18) 0.0353(15)
S1 0.0543(4) 0.0572(5) 0.0512(5) 0.0126(4) 0.0071(3) 0.0253(3)
Br1 0.0640(2) 0.0852(3) 0.0868(3) 0.0409(2) 0.00928(18) 0.03538(19)
 
_geom_special_details
;
 All esds (except the esd in the dihedral angle between two l.s. planes)
 are estimated using the full covariance matrix.  The cell esds are taken
 into account individually in the estimation of esds in distances, angles
 and torsion angles; correlations between esds in cell parameters are only
 used when they are defined by crystal symmetry.  An approximate (isotropic)
 treatment of cell esds is used for estimating esds involving l.s. planes.
;
 
loop_
 _geom_bond_atom_site_label_1
 _geom_bond_atom_site_label_2
 _geom_bond_distance
 _geom_bond_site_symmetry_2
 _geom_bond_publ_flag
C1 C2 1.345(5) . ?
C1 S1 1.716(3) . ?
C1 Br1 1.868(3) . ?
C2 C3 1.414(5) . ?
C3 C4 1.369(4) . ?
C4 C5 1.445(4) . ?
C4 S1 1.739(3) . ?
C5 C6 1.347(4) . ?
C6 C6 1.478(6) 2_756 ?
C6 C7 1.481(4) . ?
C7 C8 1.302(4) . ?
C8 C9 1.467(4) . ?
C9 C10 1.391(4) . ?
C9 C14 1.397(4) . ?
C10 C11 1.380(4) . ?
C11 C12 1.374(4) . ?
C12 C13 1.369(4) . ?
C12 N1 1.470(4) . ?
C13 C14 1.374(4) . ?
N1 O2 1.204(4) . ?
N1 O1 1.205(4) . ?
 
loop_
 _geom_angle_atom_site_label_1
 _geom_angle_atom_site_label_2
 _geom_angle_atom_site_label_3
 _geom_angle
 _geom_angle_site_symmetry_1
 _geom_angle_site_symmetry_3
 _geom_angle_publ_flag
C2 C1 S1 112.9(2) . . ?
C2 C1 Br1 127.4(3) . . ?
S1 C1 Br1 119.71(19) . . ?
C1 C2 C3 111.6(3) . . ?
C4 C3 C2 114.3(3) . . ?
C3 C4 C5 124.8(3) . . ?
C3 C4 S1 109.6(2) . . ?
C5 C4 S1 125.5(2) . . ?
C6 C5 C4 128.8(3) . . ?
C5 C6 C6 121.3(3) . 2_756 ?
C5 C6 C7 120.3(3) . . ?
C6 C6 C7 118.3(3) 2_756 . ?
C8 C7 C6 125.1(3) . . ?
C7 C8 C9 127.1(3) . . ?
C10 C9 C14 118.1(2) . . ?
C10 C9 C8 119.6(2) . . ?
C14 C9 C8 122.3(2) . . ?
C11 C10 C9 121.3(3) . . ?
C12 C11 C10 118.4(3) . . ?
C13 C12 C11 122.2(3) . . ?
C13 C12 N1 118.5(3) . . ?
C11 C12 N1 119.2(3) . . ?
C12 C13 C14 118.9(3) . . ?
C13 C14 C9 121.0(3) . . ?
O2 N1 O1 122.6(3) . . ?
O2 N1 C12 119.3(3) . . ?
O1 N1 C12 118.1(3) . . ?
C1 S1 C4 91.47(15) . . ?
 
_diffrn_measured_fraction_theta_max    0.988
_diffrn_reflns_theta_full              27.48
_diffrn_measured_fraction_theta_full   0.988
_refine_diff_density_max    0.248
_refine_diff_density_min   -0.497
_refine_diff_density_rms    0.058
