data_s93
 
_audit_creation_method            SHELXL-97
_chemical_name_systematic
;
 Dr. I. R. Butler
;
_chemical_name_common             ?
_chemical_melting_point           ?
_chemical_formula_moiety          ?
_chemical_formula_sum
 'C15 H9 N'
_chemical_formula_weight          203.23
 
loop_
 _atom_type_symbol
 _atom_type_description
 _atom_type_scat_dispersion_real
 _atom_type_scat_dispersion_imag
 _atom_type_scat_source
 'C'  'C'   0.0033   0.0000
 'International Tables Vol C Tables 4.2.6.8 and 6.1.1.4'
 'H'  'H'   0.0000   0.0000
 'International Tables Vol C Tables 4.2.6.8 and 6.1.1.4'
 'N'  'N'   0.0061   0.0000
 'International Tables Vol C Tables 4.2.6.8 and 6.1.1.4'
 
_symmetry_cell_setting            Orthorhombic
_symmetry_space_group_name_H-M    P2(1)2(1)2(1)
_symmetry_space_group_name_hall   'P 2ac 2ab'
 
loop_
 _symmetry_equiv_pos_as_xyz
 'x, y, z'
 '-x+1/2, -y, z+1/2'
 'x+1/2, -y+1/2, -z'
 '-x, y+1/2, -z+1/2'
 
_cell_length_a                    3.83960(10)
_cell_length_b                    15.1075(8)
_cell_length_c                    17.1516(7)
_cell_angle_alpha                 90.00
_cell_angle_beta                  90.00
_cell_angle_gamma                 90.00
_cell_volume                      994.91(7)
_cell_formula_units_Z             4
_cell_measurement_temperature     120(2)
_cell_measurement_reflns_used     2355
_cell_measurement_theta_min       2.910
_cell_measurement_theta_max       27.485
 
_exptl_crystal_description        Rod
_exptl_crystal_colour             'light yellow'
_exptl_crystal_size_max           0.28
_exptl_crystal_size_mid           0.04
_exptl_crystal_size_min           0.03
_exptl_crystal_density_meas       ?
_exptl_crystal_density_diffrn     1.357
_exptl_crystal_density_method     'not measured'
_exptl_crystal_F_000              424
_exptl_absorpt_coefficient_mu     0.079
_exptl_absorpt_correction_type    multi-scan
_exptl_absorpt_correction_T_min   0.9781
_exptl_absorpt_correction_T_max   0.9976
_exptl_absorpt_process_details       'SADABS V2.10 (Sheldrick, G.M., 2003)'

_diffrn_ambient_temperature           120(2)
_diffrn_radiation_wavelength           0.71073
_diffrn_radiation_type                      MoK\a
_diffrn_radiation_source                  'Bruker-Nonius FR591 rotating anode'
_diffrn_radiation_monochromator    '10cm confocal mirrors'
_diffrn_measurement_device_type  'Bruker-Nonius 95mm CCD camera on κ-goniostat'
_diffrn_measurement_method          'φ & ω scans'
_diffrn_detector_area_resol_mean   9.091
_diffrn_standards_number          ?
_diffrn_standards_interval_count  ?
_diffrn_standards_interval_time   ?
_diffrn_standards_decay_%         ?
_diffrn_reflns_number             8466
_diffrn_reflns_av_R_equivalents   0.1174
_diffrn_reflns_av_sigmaI/netI     0.0680
_diffrn_reflns_limit_h_min        -4
_diffrn_reflns_limit_h_max        4
_diffrn_reflns_limit_k_min        -19
_diffrn_reflns_limit_k_max        14
_diffrn_reflns_limit_l_min        -22
_diffrn_reflns_limit_l_max        22
_diffrn_reflns_theta_min          3.59
_diffrn_reflns_theta_max          27.47
_reflns_number_total              1361
_reflns_number_gt                 1110
_reflns_threshold_expression      >2sigma(I)
 
_computing_data_collection        
'COLLECT (Hooft, R.W.W., 1998)'
_computing_cell_refinement        
'DENZO (Otwinowski & Minor, 1997) & COLLECT (Hooft, R.W.W., 1998)'
#Although determined using DirAx, the cell is refined in the HKL
#package during data reduction
_computing_data_reduction         
'DENZO (Otwinowski & Minor, 1997) & COLLECT (Hooft, R.W.W., 1998)' 
_computing_structure_solution     'SHELXS-97 (Sheldrick, 1997a)' 
_computing_structure_refinement   'SHELXL-97 (Sheldrick, 1997b)' 
_computing_molecular_graphics     'ORTEP3 for Windows (Farrugia, 1997)'
_computing_publication_material   ?
 
_refine_special_details
;
 Refinement of F² against ALL reflections.  The weighted R-factor wR and
 goodness of fit S are based on F², conventional R-factors R are based
 on F, with F set to zero for negative F². The threshold expression of
 F² > 2sigma(F²) is used only for calculating R-factors(gt) etc. and is
 not relevant to the choice of reflections for refinement.  R-factors based
 on F² are statistically about twice as large as those based on F, and R-
 factors based on ALL data will be even larger.
;
 
_refine_ls_structure_factor_coef  Fsqd
_refine_ls_matrix_type            full
_refine_ls_weighting_scheme       calc
_refine_ls_weighting_details
 'calc w=1/[σ²(Fo²)+(0.0472P)²+0.1761P] where P=(Fo²+2Fc²)/3'
_atom_sites_solution_primary      direct
_atom_sites_solution_secondary    difmap
_atom_sites_solution_hydrogens    geom
_refine_ls_hydrogen_treatment     constr
_refine_ls_extinction_method      SHELXL
_refine_ls_extinction_coef        0.035(10)
_refine_ls_extinction_expression
 'Fc^*^=kFc[1+0.001xFc²λ³/sin(2θ)]^-1/4^'
_refine_ls_number_reflns          1361
_refine_ls_number_parameters      146
_refine_ls_number_restraints      0
_refine_ls_R_factor_all           0.0641
_refine_ls_R_factor_gt            0.0479
_refine_ls_wR_factor_ref          0.1115
_refine_ls_wR_factor_gt           0.1035
_refine_ls_goodness_of_fit_ref    1.057
_refine_ls_restrained_S_all       1.057
_refine_ls_shift/su_max           0.000
_refine_ls_shift/su_mean          0.000
 
loop_
 _atom_site_label
 _atom_site_type_symbol
 _atom_site_fract_x
 _atom_site_fract_y
 _atom_site_fract_z
 _atom_site_U_iso_or_equiv
 _atom_site_adp_type
 _atom_site_occupancy
 _atom_site_symmetry_multiplicity
 _atom_site_calc_flag
 _atom_site_refinement_flags
 _atom_site_disorder_assembly
 _atom_site_disorder_group
C1 C 0.6424(6) 0.43489(13) 0.24021(12) 0.0207(5) Uani 1 1 d . . .
C2 C 0.8044(6) 0.36537(14) 0.19935(13) 0.0205(5) Uani 1 1 d . . .
C3 C 0.8727(6) 0.36844(14) 0.11787(13) 0.0225(5) Uani 1 1 d . . .
H3 H 0.8096 0.4196 0.0889 0.027 Uiso 1 1 calc R . .
C4 C 1.0272(6) 0.29908(14) 0.08077(14) 0.0257(5) Uani 1 1 d . . .
H4 H 1.0713 0.3023 0.0263 0.031 Uiso 1 1 calc R . .
C5 C 1.1229(6) 0.22176(14) 0.12306(13) 0.0253(5) Uani 1 1 d . . .
H5 H 1.2262 0.1733 0.0965 0.030 Uiso 1 1 calc R . .
C6 C 1.0677(6) 0.21683(14) 0.20089(13) 0.0246(5) Uani 1 1 d . . .
H6 H 1.1354 0.1650 0.2284 0.030 Uiso 1 1 calc R . .
C7 C 0.9093(6) 0.28828(13) 0.24223(13) 0.0208(5) Uani 1 1 d . . .
C8 C 0.8507(6) 0.28487(14) 0.32243(13) 0.0234(5) Uani 1 1 d . . .
H8 H 0.9231 0.2338 0.3505 0.028 Uiso 1 1 calc R . .
C9 C 0.6897(6) 0.35364(14) 0.36301(13) 0.0223(5) Uani 1 1 d . . .
C10 C 0.6298(6) 0.34972(15) 0.44489(13) 0.0259(6) Uani 1 1 d . . .
H10 H 0.7035 0.2991 0.4733 0.031 Uiso 1 1 calc R . .
C11 C 0.4697(7) 0.41689(16) 0.48309(14) 0.0303(6) Uani 1 1 d . . .
H11 H 0.4313 0.4130 0.5377 0.036 Uiso 1 1 calc R . .
C12 C 0.3593(7) 0.49310(15) 0.44147(13) 0.0277(6) Uani 1 1 d . . .
H12 H 0.2466 0.5398 0.4686 0.033 Uiso 1 1 calc R . .
C13 C 0.4125(6) 0.50018(14) 0.36339(13) 0.0251(5) Uani 1 1 d . . .
H13 H 0.3370 0.5518 0.3366 0.030 Uiso 1 1 calc R . .
C14 C 0.5805(6) 0.43094(13) 0.32133(12) 0.0214(5) Uani 1 1 d . . .
C15 C 0.5300(6) 0.51240(14) 0.19699(13) 0.0235(5) Uani 1 1 d . . .
N1 N 0.4421(6) 0.57266(12) 0.16364(11) 0.0338(6) Uani 1 1 d . . .
 
loop_
 _atom_site_aniso_label
 _atom_site_aniso_U_11
 _atom_site_aniso_U_22
 _atom_site_aniso_U_33
 _atom_site_aniso_U_23
 _atom_site_aniso_U_13
 _atom_site_aniso_U_12
C1 0.0188(11) 0.0168(10) 0.0265(12) 0.0005(9) -0.0042(10) -0.0013(9)
C2 0.0145(11) 0.0204(10) 0.0265(12) 0.0006(9) -0.0014(9) -0.0043(9)
C3 0.0196(12) 0.0201(10) 0.0277(12) 0.0019(9) -0.0031(10) -0.0005(10)
C4 0.0211(13) 0.0285(11) 0.0275(12) -0.0041(10) 0.0000(10) -0.0020(10)
C5 0.0211(12) 0.0214(10) 0.0334(13) -0.0060(10) 0.0014(11) -0.0001(10)
C6 0.0193(12) 0.0181(10) 0.0364(13) -0.0006(9) -0.0023(10) -0.0003(9)
C7 0.0136(11) 0.0177(10) 0.0311(12) 0.0004(9) -0.0030(10) -0.0034(9)
C8 0.0187(12) 0.0195(10) 0.0320(13) 0.0043(9) -0.0046(10) -0.0040(9)
C9 0.0181(11) 0.0211(10) 0.0278(12) 0.0010(10) -0.0025(10) -0.0050(9)
C10 0.0210(12) 0.0281(11) 0.0286(13) 0.0039(10) -0.0002(10) -0.0044(10)
C11 0.0247(14) 0.0400(14) 0.0263(12) -0.0007(10) 0.0008(10) -0.0069(12)
C12 0.0221(13) 0.0296(12) 0.0314(13) -0.0080(11) 0.0014(11) -0.0013(11)
C13 0.0199(12) 0.0230(10) 0.0324(12) -0.0034(10) -0.0028(10) -0.0001(10)
C14 0.0145(11) 0.0206(10) 0.0291(12) -0.0016(9) -0.0036(10) -0.0037(9)
C15 0.0215(13) 0.0237(11) 0.0253(11) -0.0065(10) -0.0011(10) -0.0013(10)
N1 0.0417(14) 0.0261(10) 0.0335(11) -0.0034(9) -0.0046(11) 0.0048(10)
 
_geom_special_details
;
 All esds (except the esd in the dihedral angle between two l.s. planes)
 are estimated using the full covariance matrix.  The cell esds are taken
 into account individually in the estimation of esds in distances, angles
 and torsion angles; correlations between esds in cell parameters are only
 used when they are defined by crystal symmetry.  An approximate (isotropic)
 treatment of cell esds is used for estimating esds involving l.s. planes.
;
 
loop_
 _geom_bond_atom_site_label_1
 _geom_bond_atom_site_label_2
 _geom_bond_distance
 _geom_bond_site_symmetry_2
 _geom_bond_publ_flag
C1 C2 1.407(3) . ?
C1 C14 1.413(3) . ?
C1 C15 1.452(3) . ?
C2 C3 1.423(3) . ?
C2 C7 1.435(3) . ?
C3 C4 1.362(3) . ?
C3 H3 0.9500 . ?
C4 C5 1.423(3) . ?
C4 H4 0.9500 . ?
C5 C6 1.354(3) . ?
C5 H5 0.9500 . ?
C6 C7 1.427(3) . ?
C6 H6 0.9500 . ?
C7 C8 1.395(3) . ?
C8 C9 1.395(3) . ?
C8 H8 0.9500 . ?
C9 C10 1.424(3) . ?
C9 C14 1.432(3) . ?
C10 C11 1.355(3) . ?
C10 H10 0.9500 . ?
C11 C12 1.420(3) . ?
C11 H11 0.9500 . ?
C12 C13 1.359(3) . ?
C12 H12 0.9500 . ?
C13 C14 1.425(3) . ?
C13 H13 0.9500 . ?
C15 N1 1.127(3) . ?
 
loop_
 _geom_angle_atom_site_label_1
 _geom_angle_atom_site_label_2
 _geom_angle_atom_site_label_3
 _geom_angle
 _geom_angle_site_symmetry_1
 _geom_angle_site_symmetry_3
 _geom_angle_publ_flag
C2 C1 C14 122.22(19) . . ?
C2 C1 C15 118.62(18) . . ?
C14 C1 C15 119.1(2) . . ?
C1 C2 C3 123.11(19) . . ?
C1 C2 C7 118.33(18) . . ?
C3 C2 C7 118.56(19) . . ?
C4 C3 C2 120.9(2) . . ?
C4 C3 H3 119.5 . . ?
C2 C3 H3 119.5 . . ?
C3 C4 C5 120.4(2) . . ?
C3 C4 H4 119.8 . . ?
C5 C4 H4 119.8 . . ?
C6 C5 C4 120.5(2) . . ?
C6 C5 H5 119.8 . . ?
C4 C5 H5 119.8 . . ?
C5 C6 C7 121.0(2) . . ?
C5 C6 H6 119.5 . . ?
C7 C6 H6 119.5 . . ?
C8 C7 C6 122.1(2) . . ?
C8 C7 C2 119.34(19) . . ?
C6 C7 C2 118.60(19) . . ?
C7 C8 C9 122.41(19) . . ?
C7 C8 H8 118.8 . . ?
C9 C8 H8 118.8 . . ?
C8 C9 C10 122.2(2) . . ?
C8 C9 C14 119.22(19) . . ?
C10 C9 C14 118.6(2) . . ?
C11 C10 C9 121.2(2) . . ?
C11 C10 H10 119.4 . . ?
C9 C10 H10 119.4 . . ?
C10 C11 C12 120.0(2) . . ?
C10 C11 H11 120.0 . . ?
C12 C11 H11 120.0 . . ?
C13 C12 C11 121.0(2) . . ?
C13 C12 H12 119.5 . . ?
C11 C12 H12 119.5 . . ?
C12 C13 C14 120.6(2) . . ?
C12 C13 H13 119.7 . . ?
C14 C13 H13 119.7 . . ?
C1 C14 C13 122.93(19) . . ?
C1 C14 C9 118.47(19) . . ?
C13 C14 C9 118.59(19) . . ?
N1 C15 C1 179.8(3) . . ?
 
_diffrn_measured_fraction_theta_max    0.995
_diffrn_reflns_theta_full              27.47
_diffrn_measured_fraction_theta_full   0.995
_refine_diff_density_max    0.174
_refine_diff_density_min   -0.221
_refine_diff_density_rms    0.052
