data_04src0993
 
_audit_creation_method            SHELXL-97
_chemical_name_systematic
;
 ?
;
_chemical_name_common             ?
_chemical_melting_point           ?
_chemical_formula_moiety          'C12 H11 O2 P'
_chemical_formula_sum
 'C12 H11 O2 P'
_chemical_formula_weight          218.18
 
loop_
 _atom_type_symbol
 _atom_type_description
 _atom_type_scat_dispersion_real
 _atom_type_scat_dispersion_imag
 _atom_type_scat_source
 'C'  'C'   0.0033   0.0016
 'International Tables Vol C Tables 4.2.6.8 and 6.1.1.4'
 'H'  'H'   0.0000   0.0000
 'International Tables Vol C Tables 4.2.6.8 and 6.1.1.4'
 'O'  'O'   0.0106   0.0060
 'International Tables Vol C Tables 4.2.6.8 and 6.1.1.4'
 'P'  'P'   0.1023   0.0942
 'International Tables Vol C Tables 4.2.6.8 and 6.1.1.4'
 
_symmetry_cell_setting            Monoclinic
_symmetry_space_group_name_H-M    P2(1)/c
_symmetry_space_group_name_hall    '-P 2ybc'
 
loop_
 _symmetry_equiv_pos_as_xyz
 'x, y, z'
 '-x, y+1/2, -z+1/2'
 '-x, -y, -z'
 'x, -y-1/2, z-1/2'
 
_cell_length_a                    11.4202(15)
_cell_length_b                    5.9417(7)
_cell_length_c                    15.6075(14)
_cell_angle_alpha                 90.00
_cell_angle_beta                  100.132(8)
_cell_angle_gamma                 90.00
_cell_volume                      1042.5(2)
_cell_formula_units_Z             4
_cell_measurement_temperature     120(2)
_cell_measurement_reflns_used     2616
_cell_measurement_theta_min       2.91
_cell_measurement_theta_max       27.48
 
_exptl_crystal_description        prism
_exptl_crystal_colour             colourless
_exptl_crystal_size_max           0.34
_exptl_crystal_size_mid           0.20
_exptl_crystal_size_min           0.20
_exptl_crystal_density_meas       ?
_exptl_crystal_density_diffrn     1.390
_exptl_crystal_density_method     'not measured'
_exptl_crystal_F_000              456
_exptl_absorpt_coefficient_mu     0.238
_exptl_absorpt_correction_type    multi-scan
_exptl_absorpt_correction_T_min   0.9235
_exptl_absorpt_correction_T_max   0.9540
_exptl_absorpt_process_details    'SADABS V2.10 (Sheldrick, G.M., 2003)'
 
_exptl_special_details
;
 ?
;
 
_diffrn_ambient_temperature       120(2)
_diffrn_radiation_wavelength      0.71073
_diffrn_radiation_type            MoK\a
_diffrn_radiation_source         'Bruker-Nonius FR591 rotating anode'
_diffrn_radiation_monochromator   graphite
_diffrn_measurement_device_type   'Bruker-Nonius KappaCCD Area Detector'
_diffrn_measurement_method        'φ and ω scans'
_diffrn_detector_area_resol_mean  9.091
_diffrn_standards_number          none
_diffrn_standards_interval_count  ?
_diffrn_standards_interval_time   ?
_diffrn_standards_decay_%         negligible
_diffrn_reflns_number             15084
_diffrn_reflns_av_R_equivalents   0.0355
_diffrn_reflns_av_sigmaI/netI     0.0256
_diffrn_reflns_limit_h_min        -14
_diffrn_reflns_limit_h_max        14
_diffrn_reflns_limit_k_min        -7
_diffrn_reflns_limit_k_max        7
_diffrn_reflns_limit_l_min        -20
_diffrn_reflns_limit_l_max        20
_diffrn_reflns_theta_min          2.94
_diffrn_reflns_theta_max          27.49
_reflns_number_total              2384
_reflns_number_gt                 2216
_reflns_threshold_expression      >2sigma(I)
 
_computing_data_collection        ?
_computing_cell_refinement        'DENZO, COLLECT'
_computing_data_reduction         'DENZO, COLLECT'
_computing_structure_solution     'SHELXS-97 (Sheldrick, 1997)'
_computing_structure_refinement   'SHELXL-97 (Sheldrick, 1997)'
_computing_molecular_graphics     'PLATON (Spek, 1990)'
_computing_publication_material   ?
 
_refine_special_details
;
 Refinement of F² against ALL reflections.  The weighted R-factor wR and
 goodness of fit S are based on F², conventional R-factors R are based
 on F, with F set to zero for negative F². The threshold expression of
 F² > 2sigma(F²) is used only for calculating R-factors(gt) etc. and is
 not relevant to the choice of reflections for refinement.  R-factors based
 on F² are statistically about twice as large as those based on F, and R-
 factors based on ALL data will be even larger.
;
 
_refine_ls_structure_factor_coef  Fsqd
_refine_ls_matrix_type            full
_refine_ls_weighting_scheme       calc
_refine_ls_weighting_details
 'calc w=1/[σ²(Fo²)+(0.0482P)²+0.6561P] where P=(Fo²+2Fc²)/3'
_atom_sites_solution_primary      direct
_atom_sites_solution_secondary    difmap
_atom_sites_solution_hydrogens    geom
_refine_ls_hydrogen_treatment     mixed
_refine_ls_extinction_method      SHELXL
_refine_ls_extinction_coef        0.036(6)
_refine_ls_extinction_expression
 'Fc^*^=kFc[1+0.001xFc²λ³/sin(2θ)]^-1/4^'
_refine_ls_number_reflns          2384
_refine_ls_number_parameters      141
_refine_ls_number_restraints      0
_refine_ls_R_factor_all           0.0386
_refine_ls_R_factor_gt            0.0362
_refine_ls_wR_factor_ref          0.0993
_refine_ls_wR_factor_gt           0.0975
_refine_ls_goodness_of_fit_ref    1.090
_refine_ls_restrained_S_all       1.090
_refine_ls_shift/su_max           0.008
_refine_ls_shift/su_mean          0.001
 
loop_
 _atom_site_label
 _atom_site_type_symbol
 _atom_site_fract_x
 _atom_site_fract_y
 _atom_site_fract_z
 _atom_site_U_iso_or_equiv
 _atom_site_adp_type
 _atom_site_occupancy
 _atom_site_symmetry_multiplicity
 _atom_site_calc_flag
 _atom_site_refinement_flags
 _atom_site_disorder_assembly
 _atom_site_disorder_group
H2O H 0.536(3) 0.369(5) 0.7355(19) 0.070(9) Uiso 1 1 d . . .
C1 C 0.81366(12) 0.1376(2) 0.80334(9) 0.0156(3) Uani 1 1 d . . .
C2 C 0.87126(13) -0.0400(3) 0.85147(9) 0.0200(3) Uani 1 1 d . . .
H2 H 0.8303 -0.1773 0.8563 0.024 Uiso 1 1 calc R . .
C3 C 0.98892(14) -0.0161(3) 0.89251(10) 0.0258(4) Uani 1 1 d . . .
H3 H 1.0283 -0.1370 0.9255 0.031 Uiso 1 1 calc R . .
C4 C 1.04855(14) 0.1837(3) 0.88523(10) 0.0288(4) Uani 1 1 d . . .
H4 H 1.1289 0.1995 0.9135 0.035 Uiso 1 1 calc R . .
C5 C 0.99212(14) 0.3605(3) 0.83719(11) 0.0267(4) Uani 1 1 d . . .
H5 H 1.0339 0.4967 0.8320 0.032 Uiso 1 1 calc R . .
C6 C 0.87455(13) 0.3387(3) 0.79657(9) 0.0203(3) Uani 1 1 d . . .
H6 H 0.8354 0.4608 0.7641 0.024 Uiso 1 1 calc R . .
C7 C 0.66286(12) 0.0334(2) 0.63829(9) 0.0159(3) Uani 1 1 d . . .
C8 C 0.70487(14) 0.1890(3) 0.58422(9) 0.0219(3) Uani 1 1 d . . .
H8 H 0.7340 0.3306 0.6069 0.026 Uiso 1 1 calc R . .
C9 C 0.70440(15) 0.1381(3) 0.49730(10) 0.0265(4) Uani 1 1 d . . .
H9 H 0.7341 0.2440 0.4608 0.032 Uiso 1 1 calc R . .
C10 C 0.66055(14) -0.0673(3) 0.46382(10) 0.0237(3) Uani 1 1 d . . .
H10 H 0.6589 -0.1011 0.4041 0.028 Uiso 1 1 calc R . .
C11 C 0.61924(13) -0.2232(3) 0.51719(10) 0.0229(3) Uani 1 1 d . . .
H11 H 0.5896 -0.3642 0.4941 0.027 Uiso 1 1 calc R . .
C12 C 0.62087(13) -0.1741(3) 0.60470(10) 0.0202(3) Uani 1 1 d . . .
H12 H 0.5933 -0.2822 0.6414 0.024 Uiso 1 1 calc R . .
O1 O 0.60096(9) -0.06969(18) 0.79418(7) 0.0201(2) Uani 1 1 d . . .
O2 O 0.61353(10) 0.34902(18) 0.75071(7) 0.0203(3) Uani 1 1 d . . .
P1 P 0.66248(3) 0.10689(6) 0.74986(2) 0.01406(15) Uani 1 1 d . . .
 
loop_
 _atom_site_aniso_label
 _atom_site_aniso_U_11
 _atom_site_aniso_U_22
 _atom_site_aniso_U_33
 _atom_site_aniso_U_23
 _atom_site_aniso_U_13
 _atom_site_aniso_U_12
C1 0.0127(6) 0.0202(7) 0.0142(6) -0.0030(5) 0.0034(5) -0.0005(5)
C2 0.0186(7) 0.0227(7) 0.0186(7) -0.0016(6) 0.0029(5) 0.0021(6)
C3 0.0197(7) 0.0354(9) 0.0204(7) -0.0028(6) -0.0014(6) 0.0075(6)
C4 0.0144(7) 0.0454(10) 0.0251(8) -0.0105(7) -0.0005(6) -0.0023(7)
C5 0.0210(8) 0.0324(9) 0.0274(8) -0.0085(7) 0.0063(6) -0.0104(6)
C6 0.0192(7) 0.0222(7) 0.0198(7) -0.0023(6) 0.0043(5) -0.0033(6)
C7 0.0117(6) 0.0188(7) 0.0165(6) 0.0004(5) 0.0007(5) 0.0014(5)
C8 0.0252(7) 0.0222(7) 0.0179(7) -0.0002(6) 0.0026(6) -0.0046(6)
C9 0.0305(8) 0.0316(9) 0.0178(7) 0.0034(6) 0.0052(6) -0.0022(7)
C10 0.0217(7) 0.0319(8) 0.0162(7) -0.0037(6) 0.0000(6) 0.0071(6)
C11 0.0206(7) 0.0222(7) 0.0238(7) -0.0066(6) -0.0014(6) 0.0018(6)
C12 0.0186(7) 0.0190(7) 0.0225(7) -0.0002(6) 0.0025(5) 0.0003(6)
O1 0.0165(5) 0.0243(5) 0.0198(5) 0.0034(4) 0.0035(4) -0.0047(4)
O2 0.0166(5) 0.0198(5) 0.0244(5) -0.0022(4) 0.0033(4) 0.0034(4)
P1 0.0116(2) 0.0157(2) 0.0148(2) -0.00007(12) 0.00202(13) -0.00069(12)
 
_geom_special_details
;
 All esds (except the esd in the dihedral angle between two l.s. planes)
 are estimated using the full covariance matrix.  The cell esds are taken
 into account individually in the estimation of esds in distances, angles
 and torsion angles; correlations between esds in cell parameters are only
 used when they are defined by crystal symmetry.  An approximate (isotropic)
 treatment of cell esds is used for estimating esds involving l.s. planes.
;
 
loop_
 _geom_bond_atom_site_label_1
 _geom_bond_atom_site_label_2
 _geom_bond_distance
 _geom_bond_site_symmetry_2
 _geom_bond_publ_flag
C1 C2 1.392(2) . ?
C1 C6 1.396(2) . ?
C1 P1 1.7898(14) . ?
C2 C3 1.390(2) . ?
C2 H2 0.9500 . ?
C3 C4 1.383(3) . ?
C3 H3 0.9500 . ?
C4 C5 1.382(3) . ?
C4 H4 0.9500 . ?
C5 C6 1.386(2) . ?
C5 H5 0.9500 . ?
C6 H6 0.9500 . ?
C7 C12 1.392(2) . ?
C7 C8 1.392(2) . ?
C7 P1 1.7961(14) . ?
C8 C9 1.389(2) . ?
C8 H8 0.9500 . ?
C9 C10 1.386(2) . ?
C9 H9 0.9500 . ?
C10 C11 1.383(2) . ?
C10 H10 0.9500 . ?
C11 C12 1.393(2) . ?
C11 H11 0.9500 . ?
C12 H12 0.9500 . ?
O1 P1 1.4979(10) . ?
O2 P1 1.5443(11) . ?
O2 H2O 0.88(3) . ?
 
loop_
 _geom_angle_atom_site_label_1
 _geom_angle_atom_site_label_2
 _geom_angle_atom_site_label_3
 _geom_angle
 _geom_angle_site_symmetry_1
 _geom_angle_site_symmetry_3
 _geom_angle_publ_flag
C2 C1 C6 119.71(13) . . ?
C2 C1 P1 119.99(11) . . ?
C6 C1 P1 120.30(11) . . ?
C3 C2 C1 119.86(15) . . ?
C3 C2 H2 120.1 . . ?
C1 C2 H2 120.1 . . ?
C4 C3 C2 119.98(15) . . ?
C4 C3 H3 120.0 . . ?
C2 C3 H3 120.0 . . ?
C3 C4 C5 120.50(14) . . ?
C3 C4 H4 119.8 . . ?
C5 C4 H4 119.8 . . ?
C4 C5 C6 119.93(15) . . ?
C4 C5 H5 120.0 . . ?
C6 C5 H5 120.0 . . ?
C5 C6 C1 120.03(14) . . ?
C5 C6 H6 120.0 . . ?
C1 C6 H6 120.0 . . ?
C12 C7 C8 119.50(13) . . ?
C12 C7 P1 121.41(11) . . ?
C8 C7 P1 119.08(11) . . ?
C9 C8 C7 120.33(15) . . ?
C9 C8 H8 119.8 . . ?
C7 C8 H8 119.8 . . ?
C10 C9 C8 119.92(15) . . ?
C10 C9 H9 120.0 . . ?
C8 C9 H9 120.0 . . ?
C11 C10 C9 120.10(14) . . ?
C11 C10 H10 120.0 . . ?
C9 C10 H10 120.0 . . ?
C10 C11 C12 120.21(14) . . ?
C10 C11 H11 119.9 . . ?
C12 C11 H11 119.9 . . ?
C7 C12 C11 119.93(14) . . ?
C7 C12 H12 120.0 . . ?
C11 C12 H12 120.0 . . ?
P1 O2 H2O 117.9(18) . . ?
O1 P1 O2 116.65(6) . . ?
O1 P1 C1 110.39(6) . . ?
O2 P1 C1 102.82(6) . . ?
O1 P1 C7 111.02(7) . . ?
O2 P1 C7 107.30(6) . . ?
C1 P1 C7 108.08(6) . . ?
 
_diffrn_measured_fraction_theta_max    0.994
_diffrn_reflns_theta_full              27.49
_diffrn_measured_fraction_theta_full   0.994
_refine_diff_density_max    0.310
_refine_diff_density_min   -0.408
_refine_diff_density_rms    0.076
